BEGIN:VCALENDAR
VERSION:2.0
PRODID:icalendar-ruby
CALSCALE:GREGORIAN
METHOD:PUBLISH
BEGIN:VEVENT
DTSTAMP:20260423T153703Z
UID:5-403252@osykabaptistchurch.com
DTSTART:20261101T180000Z
DTEND:20261101T190000Z
CLASS:PUBLIC
CREATED:20260423T083225
DESCRIPTION:Sunday Worship
LAST-MODIFIED:20260423T083225
LOCATION:
SUMMARY:Sunday Worship
URL;VALUE=URI:https://osykabaptistchurch.com/events/sunday-worship/2026-11-
 01
END:VEVENT
END:VCALENDAR
