BEGIN:VCALENDAR
VERSION:2.0
PRODID:icalendar-ruby
CALSCALE:GREGORIAN
METHOD:PUBLISH
BEGIN:VEVENT
DTSTAMP:20260423T134800Z
UID:5-402990@osykabaptistchurch.com
DTSTART:20261025T170000Z
DTEND:20261025T180000Z
CLASS:PUBLIC
CREATED:20260423T054002
DESCRIPTION:Sunday Worship
LAST-MODIFIED:20260423T054002
LOCATION:
SUMMARY:Sunday Worship
URL;VALUE=URI:https://osykabaptistchurch.com/events/sunday-worship/2026-10-
 25
END:VEVENT
END:VCALENDAR
