BEGIN:VCALENDAR
VERSION:2.0
PRODID:icalendar-ruby
CALSCALE:GREGORIAN
METHOD:PUBLISH
BEGIN:VEVENT
DTSTAMP:20260423T085851Z
UID:5-402726@osykabaptistchurch.com
DTSTART:20261004T170000Z
DTEND:20261004T180000Z
CLASS:PUBLIC
CREATED:20260422T200945
DESCRIPTION:Sunday Worship
LAST-MODIFIED:20260422T200945
LOCATION:
SUMMARY:Sunday Worship
URL;VALUE=URI:https://osykabaptistchurch.com/events/sunday-worship/2026-10-
 04
END:VEVENT
END:VCALENDAR
